{"text_format":"1","workbook":"xlsx","n_sheets":2,"sheets":["TASCHENRECHNER","ERGEBNISSE"],"not_rendered":{"charts":0,"images":3,"macros":1,"external_links":0,"defined_names":0,"comments":1,"pivot_tables":0},"unopened":[],"bounds":{"document_bytes":16777216,"sheet_cells":100000,"rows_first":2000,"rows_last":500,"rows_between":2000,"halvings":0,"cell_chars":16384,"cell_head_chars":4096},"cells_cut":0,"cells_raw":0,"read":"whole","date_system":"1900"}

{"sheet":"TASCHENRECHNER","index":0,"n_rows":31,"n_cols":34,"rows_kept":31,"cut":false,"hidden":false,"merged":[[26,3,26,4],[27,3,27,6],[28,3,28,6],[29,3,29,6],[30,3,30,6],[16,27,16,28],[16,29,16,31],[17,7,17,8],[17,9,17,10],[18,3,18,4],[16,17,16,18],[16,19,16,21],[16,22,16,23],[16,24,16,26],[25,3,25,4],[19,3,19,4],[20,3,20,4],[21,3,21,4],[22,3,22,4],[23,3,23,4],[24,3,24,4],[11,2,11,31],[12,2,12,31],[14,2,30,2],[14,3,14,6],[14,7,14,8],[14,9,14,11],[14,12,14,31],[15,3,17,6],[15,10,15,11],[15,12,15,16],[15,17,15,21],[15,22,15,26],[15,27,15,31],[16,9,16,11],[16,12,16,13],[16,14,16,16],[9,24,9,28],[10,7,10,8],[10,13,10,15],[10,16,10,19],[10,20,10,23],[10,24,10,28],[9,4,9,6],[9,7,9,8],[9,13,9,15],[9,16,9,19],[9,20,9,23],[8,29,8,31],[0,1,30,1],[0,2,0,32],[1,2,1,31],[7,2,7,12],[7,13,7,31],[8,4,8,8],[4,2,6,31],[8,9,8,11],[8,13,8,15],[8,16,8,19],[8,20,8,23],[8,24,8,28],[9,29,9,31],[10,4,10,6],[10,29,10,31]]}
[]
[null,null,"BELEUCHTUNGSINVESTITION  &  BETRIEBSKOSTENRECHNER *"]
[]
[]
[null,null,"              VARIABLEN  DES  BELEUCHTUNGSPROJEKTS"]
[]
[]
[null,null,"RAUM",null,null,null,null,null,null,null,null,null,null,"BETRIEBSFÄHİG"]
[null,null,"BREITE","LÄNGE","HÖHE mt.",null,null,null,null,"OBERFLÄCHENREFLEKTANZEN",null,null,"INDEX","BERECHNUNGSZEITRAUM",null,null,"ZIELBELEUCHTUNGSPEGEL",null,null,null,"ARBEITSTAGE PRO JAHR",null,null,null,"DURCHSCHNITTLICHE                                                   BELEUCHTUNGSSTUNDEN PRO TAG",null,null,null,null,"ENERGIEEINHEITSKOSTEN"]
[null,null,"METER","METER","ARBEITSFLÄCHE",null,null,"MONTAGE",null,"DECKE","MAUER","UMHAUEN","RI   - K  ","JAHRE",null,null,"LUX   ( durchschnitt auf arbeitsebene )",null,null,null,"TAGE",null,null,null,"STUNDE",null,null,null,null,"EURO / kWh "]
[null,null,9,16,0.8,null,null,2.75,null,70,50,20,{"$f":"(C11*D11)/((H11-E11)*(C11+D11))","v":2.953846153846154},6,null,null,400,null,null,null,252,null,null,null,6.5,null,null,null,null,0.25]
[null,null,"* Dieser Rechner soll dem Benutzer einen Näherungswert für die optischen und elektrischen Durchschnittsdaten, die Investitions- und Betriebskosten (Energie) der Leuchten und eine geschätzte Kapitalrendite alternativer Beleuchtungssysteme durch Energieeinsparungen im Vergleich zu LIBUS liefern. Die angegebenen Daten (außer denen von LIBUS) können nicht als spezifische Informationen über eine bestimmte Leuchtenmarke bewertet werden."]
[null,null,"*   Alle weißen Felder in der Tabelle \"Variablen\" müssen ausgefüllt werden, um die Zieldaten in der nachstehenden Tabelle zu erhalten. Wenn Sie Fragen haben, senden Sie bitte eine E-Mail an project@libuslighting.com. Das LIBUS-Team bietet Ihnen gerne professionelle und kostenlose Projektunterstützung für Leuchten der Marke LIBUS an."]
[null,null,null,null,null,null,null,null,null,null,null,null,null,null,null,null,null,null,null,null,null,null,null,null,null,null,null,null,null,null,null,null,null," "]
[null,null,"LEUCHTENDATEN",null,null,null,null,"LEUCHTSTOFF",null,"LED-PANEL",null,null,"LIBUS     SBL13WB  600 x 600  /  625 x 625 mm"]
[null,null,null,"LEUCHTENFAMILIE",null,null,null,"4 x 18 Watt","4 x 14 Watt","EDGE-BELEUCHTET","HINTERGRUND BELEUCHTUNG",null,"STANDARD",null,null,null,null,"E-WHITE",null,null,null,null,"E-SILVER",null,null,null,null,"PERFORMANCE"]
[null,null,null,null,null,null,null,"      T26                (T8)","       T16                    (T5)","UNTERLAGEABDECKUNG",null,null," LSS",null," LSP",null,null," LWS",null,"LWP",null,null,"LES",null," LEP",null,null," LPS",null," LPP"]
[null,null,null,null,null,null,null,"elektronischer Ballast",null,"opaler diffusor",null," micro prism","BL","CT","BL","CT","MC","BL","CT","BL","CT","MC","BL","CT","BL","CT","MC","BL","CT","BL","CT","MC"]
[null,null,null,"SYSTEMLEISTUNG",null,":","watt",81,63,40,35,27,27,27,25,25,27,25,25,21,21,25,25,25,21,21,25,21,21,19,19,21]
[null,null,null,"AKTIVE KRAFT",null,":","watt",72,56,34.4,30.274999999999999,23.597999999999999,23.597999999999999,23.597999999999999,21.85,21.85,23.597999999999999,21.85,21.85,18.690000000000001,18.690000000000001,22.25,21.85,21.85,18.690000000000001,18.690000000000001,22.25,18.353999999999999,18.353999999999999,16.606000000000002,16.606000000000002,18.353999999999999]
[null,null,null,"GESAMT LAMPENFLUSS",null,":","lumen",5400,5400,5504,4995.375,3893.6699999999996,3893.6699999999996,3893.6699999999996,3714.5000000000005,3714.5000000000005,4011.66,3714.5000000000005,3714.5000000000005,3270.75,3270.75,3893.75,3714.5000000000005,3714.5000000000005,3270.75,3270.75,3893.75,3303.72,3303.72,3072.11,3072.11,3395.49]
[null,null,null,"LEUCHTE L.O.R.",null,":","%",57,62,61,66,72.7,73.8,72.7,73.8,72.7,72.2,87.6,86.3,87.6,86.3,85.1,86.8,85.5,86.8,85.5,84.3,95.3,93.9,95.3,93.9,92.5]
[null,null,null,"LEUCHTE LEUCHTFLUSS",null,":","lumen",{"$f":"H21*(H22/100)","v":3077.9999999999995},{"$f":"I21*(I22/100)","v":3348},{"$f":"J21*(J22/100)","v":3357.44},{"$f":"K21*(K22/100)","v":3296.9475000000002},{"$f":"L21*(L22/100)","v":2830.6980899999999},{"$f":"M21*(M22/100)","v":2873.5284599999995},{"$f":"N21*(N22/100)","v":2830.6980899999999},{"$f":"O21*(O22/100)","v":2741.3010000000004},2700.4415000000004,2896.4185199999997,3253.902,3205.6135000000004,2865.1769999999997,2822.6572499999997,3313.5812499999997,3224.1860000000001,3175.8975000000005,2839.011,2796.49125,3282.4312500000001,3148.4451599999998,3102.19308,2927.7208300000002,2884.7112900000002,{"$f":"AF21*(AF22/100)","v":3140.82825}]
[null,null,null,"U.F. ID",null,":","%",82,82,76.73,75.97,83,91.2,90.7,91.6,91.06,86.1,84.8,84.4,84.6,85.08,84.95,96.94,92.69,93.82,93.02,87.06,93.82,89.8,93.8,93,84.4]
[null,null,null," EFFEKTIVER LEUCHTFLUSS",null,":","lumen",{"$f":"H23*(H24/100)","v":2523.9599999999996},{"$f":"I23*(I24/100)","v":2745.3599999999997},2576.1637120000005,2504.6910157500001,2349.4794146999998,2620.6579555199996,2567.4431676300001,2511.031716,2459.0220299000007,2493.8163457199998,2759.308896,2705.5377940000008,2423.9397419999996,2401.5167882999999,2814.8872718749999,3125.5259083999999,2943.7393927500002,2663.5601201999998,2601.2961607499997,2857.6846462500002,{"$f":"AB23*(AB24/100)","v":2953.8712491119995},2785.7693858400003,2746.2021385399999,2682.7814997000005,2650.8590430000004]
[null,null,null," UGR ID",null,":","<","15-17","15-17","18-19","19-21","18-19",8.9,8.9,9.5,9.4,11.7,13,13.5,13.5,13.2,12.7,8.1,8.8000000000000007,8.1999999999999993,8.6,10.9,8.1999999999999993,8.5,8.6,8.6,11]
[null,null,null,"WIRKSAMKEIT",null,":","lm / w",{"$f":"H23/H19","v":37.999999999999993},{"$f":"I23/I19","v":53.142857142857146},{"$f":"J23/J19","v":83.936000000000007},{"$f":"K23/K19","v":94.19850000000001},115,116,115,126,125,119,135,133,147,145,138,134,133,145,144,137,156,156,169,169,160]
[null,null,null,"LLF : light loss factor =",null,null,null,0.8,0.81,0.75,0.85,0.86499999999999999,0.88,0.89,0.88,0.89,0.89,{"$f":"M28+0.01","v":0.89},{"$f":"N28+0.01","v":0.9},0.89,0.9,0.9,0.89,0.9,0.89,0.9,0.9,{"$f":"W28+0.01","v":0.9},{"$f":"X28+0.01","v":0.91},0.9,0.91,0.91]
[null,null,null,"n : no.of lamps / luminaire =",null,null,null,4,4,120,169,169,169,169,169,169,169,169,169,169,169,169,169,169,169,169,169,169,169,169,169,169]
[null,null,null,"F : luminous flux per lamp = (initial values)",null,null,null,{"$f":"H23/H29","v":769.49999999999989},{"$f":"I23/I29","v":837},27.978666666666665,19.508565088757397,16.749692840236687,17.003126982248517,16.749692840236687,16.220715976331363,15.978943786982251,17.138571124260352,19.253857988165681,18.968127218934914,16.953710059171595,16.702113905325444,19.606989644970412,19.078023668639055,18.792292899408288,16.798881656804735,16.54728550295858,19.422670118343195,18.629853017751479,18.356172071005918,17.323791893491126,17.069297573964498,{"$f":"AF23/AF29","v":18.584782544378697}]
[null,null,null,"UF : RI = 2.0 / C:70 - W:50 - F:20 = ",null,null,null,0.912578,0.912578,0.823546,0.84547012999999993,0.92,1,1,1,1,0.96,0.95,0.95,0.95,0.95,0.95,1.04,1.01,1.02,1.01,0.96,1.02,0.99,1.02,1.01,0.96]

{"sheet":"ERGEBNISSE","index":1,"n_rows":15,"n_cols":31,"rows_kept":15,"cut":false,"hidden":false,"merged":[[14,1,14,30],[7,1,7,4],[8,1,8,4],[9,1,9,4],[10,1,10,4],[11,1,11,4],[12,1,12,4],[13,1,13,4],[4,11,4,15],[4,16,4,20],[4,21,4,25],[4,26,4,30],[5,8,5,10],[5,11,5,12],[5,13,5,15],[5,16,5,17],[5,18,5,20],[5,21,5,22],[5,23,5,25],[5,26,5,27],[5,28,5,30],[4,1,4,5],[5,1,6,5],[11,5,13,5],[6,6,6,7],[6,8,6,9],[8,5,9,5],[4,9,4,10],[0,1,0,30],[1,1,1,30],[3,2,3,5],[3,6,3,7],[3,8,3,10],[3,11,3,30]]}
[]
[null,"                          GESCHÄTZTE  BERECHNUNGSERGEBNISSE  FÜR  DAS  VORGEGEBENE  PROJEKT *"]
[]
[null,{"$f":"TASCHENRECHNER!N11","v":6},"JAHRE",null,null,null,"LEUCHTSTOFF",null,"LED-PANEL",null,null,"LIBUS     SBL13WB  600 x 600  /  625 x 625 mm"]
[null,"BETRIEBSDAUER",null,null,null,null," 4 x 18 Watt","4 x 14 Watt","   EDGE - BELEUCHTET","HINTERGRUND BELEUCHTUNG",null,"STANDARD",null,null,null,null,"E-WHITE",null,null,null,null,"E-SILVER",null,null,null,null,"PERFORMANCE"]
[null,"LEUCHTENFAMILIE",null,null,null,null,"T26                  (T8)","T16                     (T5)","UNTERLAGEABDECKUNG",null,null," LSS",null," LSP",null,null," LWS",null,"LWP",null,null,"LES",null," LEP",null,null," LPS",null," LPP"]
[null,null,null,null,null,null,"elektronischer Ballast",null,"opaler diffusor",null," micro prism","BL","CT","BL","CT","MC","BL","CT","BL","CT","MC","BL","CT","BL","CT","MC","BL","CT","BL","CT","MC"]
[null,"ANZAHL DER BENÖTIGTEN   LEUCHTEN",null,null,null,"STÜCKE",{"$f":"(TASCHENRECHNER!$Q$11*(TASCHENRECHNER!$C$11*TASCHENRECHNER!$D$11))/(TASCHENRECHNER!H28*(TASCHENRECHNER!H24/100)*TASCHENRECHNER!H23)","v":28.526601055484239},{"$f":"(TASCHENRECHNER!$Q$11*(TASCHENRECHNER!$C$11*TASCHENRECHNER!$D$11))/(TASCHENRECHNER!I28*(TASCHENRECHNER!I24/100)*TASCHENRECHNER!I23)","v":25.902290086222251},{"$f":"(TASCHENRECHNER!$Q$11*(TASCHENRECHNER!$C$11*TASCHENRECHNER!$D$11))/(TASCHENRECHNER!J28*(TASCHENRECHNER!J24/100)*TASCHENRECHNER!J23)","v":29.811769974966555},{"$f":"(TASCHENRECHNER!$Q$11*(TASCHENRECHNER!$C$11*TASCHENRECHNER!$D$11))/(TASCHENRECHNER!K28*(TASCHENRECHNER!K24/100)*TASCHENRECHNER!K23)","v":27.055115962901152},{"$f":"(TASCHENRECHNER!$Q$11*(TASCHENRECHNER!$C$11*TASCHENRECHNER!$D$11))/(TASCHENRECHNER!L28*(TASCHENRECHNER!L24/100)*TASCHENRECHNER!L23)","v":28.3422765737342},{"$f":"(TASCHENRECHNER!$Q$11*(TASCHENRECHNER!$C$11*TASCHENRECHNER!$D$11))/(TASCHENRECHNER!M28*(TASCHENRECHNER!M24/100)*TASCHENRECHNER!M23)","v":24.976378667302175},{"$f":"(TASCHENRECHNER!$Q$11*(TASCHENRECHNER!$C$11*TASCHENRECHNER!$D$11))/(TASCHENRECHNER!N28*(TASCHENRECHNER!N24/100)*TASCHENRECHNER!N23)","v":25.207608074665792},{"$f":"(TASCHENRECHNER!$Q$11*(TASCHENRECHNER!$C$11*TASCHENRECHNER!$D$11))/(TASCHENRECHNER!O28*(TASCHENRECHNER!O24/100)*TASCHENRECHNER!O23)","v":26.066793596224514},{"$f":"(TASCHENRECHNER!$Q$11*(TASCHENRECHNER!$C$11*TASCHENRECHNER!$D$11))/(TASCHENRECHNER!P28*(TASCHENRECHNER!P24/100)*TASCHENRECHNER!P23)","v":26.319040796160497},{"$f":"(TASCHENRECHNER!$Q$11*(TASCHENRECHNER!$C$11*TASCHENRECHNER!$D$11))/(TASCHENRECHNER!Q28*(TASCHENRECHNER!Q24/100)*TASCHENRECHNER!Q23)","v":25.951831310541106},{"$f":"(TASCHENRECHNER!$Q$11*(TASCHENRECHNER!$C$11*TASCHENRECHNER!$D$11))/(TASCHENRECHNER!R28*(TASCHENRECHNER!R24/100)*TASCHENRECHNER!R23)","v":23.454822770083769},{"$f":"(TASCHENRECHNER!$Q$11*(TASCHENRECHNER!$C$11*TASCHENRECHNER!$D$11))/(TASCHENRECHNER!S28*(TASCHENRECHNER!S24/100)*TASCHENRECHNER!S23)","v":23.655186093475056},{"$f":"(TASCHENRECHNER!$Q$11*(TASCHENRECHNER!$C$11*TASCHENRECHNER!$D$11))/(TASCHENRECHNER!T28*(TASCHENRECHNER!T24/100)*TASCHENRECHNER!T23)","v":26.699962875395407},{"$f":"(TASCHENRECHNER!$Q$11*(TASCHENRECHNER!$C$11*TASCHENRECHNER!$D$11))/(TASCHENRECHNER!U28*(TASCHENRECHNER!U24/100)*TASCHENRECHNER!U23)","v":26.649824107748465},{"$f":"(TASCHENRECHNER!$Q$11*(TASCHENRECHNER!$C$11*TASCHENRECHNER!$D$11))/(TASCHENRECHNER!V28*(TASCHENRECHNER!V24/100)*TASCHENRECHNER!V23)","v":22.736256843908894},{"$f":"(TASCHENRECHNER!$Q$11*(TASCHENRECHNER!$C$11*TASCHENRECHNER!$D$11))/(TASCHENRECHNER!W28*(TASCHENRECHNER!W24/100)*TASCHENRECHNER!W23)","v":20.706627626941064},{"$f":"(TASCHENRECHNER!$Q$11*(TASCHENRECHNER!$C$11*TASCHENRECHNER!$D$11))/(TASCHENRECHNER!X28*(TASCHENRECHNER!X24/100)*TASCHENRECHNER!X23)","v":21.741054985241778},{"$f":"(TASCHENRECHNER!$Q$11*(TASCHENRECHNER!$C$11*TASCHENRECHNER!$D$11))/(TASCHENRECHNER!Y28*(TASCHENRECHNER!Y24/100)*TASCHENRECHNER!Y23)","v":24.297968959955714},{"$f":"(TASCHENRECHNER!$Q$11*(TASCHENRECHNER!$C$11*TASCHENRECHNER!$D$11))/(TASCHENRECHNER!Z28*(TASCHENRECHNER!Z24/100)*TASCHENRECHNER!Z23)","v":24.603119385509594},{"$f":"(TASCHENRECHNER!$Q$11*(TASCHENRECHNER!$C$11*TASCHENRECHNER!$D$11))/(TASCHENRECHNER!AA28*(TASCHENRECHNER!AA24/100)*TASCHENRECHNER!AA23)","v":22.395753178708528},{"$f":"(TASCHENRECHNER!$Q$11*(TASCHENRECHNER!$C$11*TASCHENRECHNER!$D$11))/(TASCHENRECHNER!AB28*(TASCHENRECHNER!AB24/100)*TASCHENRECHNER!AB23)","v":21.666482592712814},{"$f":"(TASCHENRECHNER!$Q$11*(TASCHENRECHNER!$C$11*TASCHENRECHNER!$D$11))/(TASCHENRECHNER!AC28*(TASCHENRECHNER!AC24/100)*TASCHENRECHNER!AC23)","v":22.721444071587168},{"$f":"(TASCHENRECHNER!$Q$11*(TASCHENRECHNER!$C$11*TASCHENRECHNER!$D$11))/(TASCHENRECHNER!AD28*(TASCHENRECHNER!AD24/100)*TASCHENRECHNER!AD23)","v":23.304912301184491},{"$f":"(TASCHENRECHNER!$Q$11*(TASCHENRECHNER!$C$11*TASCHENRECHNER!$D$11))/(TASCHENRECHNER!AE28*(TASCHENRECHNER!AE24/100)*TASCHENRECHNER!AE23)","v":23.593685622098331},{"$f":"(TASCHENRECHNER!$Q$11*(TASCHENRECHNER!$C$11*TASCHENRECHNER!$D$11))/(TASCHENRECHNER!AF28*(TASCHENRECHNER!AF24/100)*TASCHENRECHNER!AF23)","v":23.87780801240562}]
[null,"GESCHÄTZTE LEUCHTENKOSTEN",null,null,null,"EURO",40,45,48,48,60,62,67,68,74,86,68,73,72,78,91,71,76,75,80,93,86,92,97,102,109]
[null,"GESAMTLAMPEN INVESTITIONSKOSTEN",null,null,null,null,{"$f":"G8*G9","v":1141.0640422193696},{"$f":"H8*H9","v":1165.6030538800014},1430.9649587983947,1298.6455662192552,1700.5365944240521,{"$f":"L8*L9","v":1548.5354773727349},1688.9097410026081,1772.5419645432669,1947.6090189158767,2231.8574927065351,1594.9279483656962,1726.828584823679,1922.3973270284694,2078.6862804043803,2068.9993727957094,1470.1705615128155,1652.3201788783751,1822.3476719966786,1968.2495508407674,2082.805045619893,1863.317502973302,2090.3728545860195,2260.5764932148954,2406.5559334540299,2602.6810733522125]
[null,"JÄHRLICHER ENERGIEVERBRAUCH",null,null,null,"kWh",{"$f":"((G8*TASCHENRECHNER!H19)/1000)*TASCHENRECHNER!$U$11*TASCHENRECHNER!$Y$11","v":3784.8523748395382},{"$f":"((H8*TASCHENRECHNER!I19)/1000)*TASCHENRECHNER!$U$11*TASCHENRECHNER!$Y$11","v":2672.9609231576187},{"$f":"((I8*TASCHENRECHNER!J19)/1000)*TASCHENRECHNER!$U$11*TASCHENRECHNER!$Y$11","v":1953.267168759809},{"$f":"((J8*TASCHENRECHNER!K19)/1000)*TASCHENRECHNER!$U$11*TASCHENRECHNER!$Y$11","v":1551.069798153123},{"$f":"((K8*TASCHENRECHNER!L19)/1000)*TASCHENRECHNER!$U$11*TASCHENRECHNER!$Y$11","v":1253.4655237499687},{"$f":"((L8*TASCHENRECHNER!M19)/1000)*TASCHENRECHNER!$U$11*TASCHENRECHNER!$Y$11","v":1104.6053229401059},{"$f":"((M8*TASCHENRECHNER!N19)/1000)*TASCHENRECHNER!$U$11*TASCHENRECHNER!$Y$11","v":1114.8316747101692},{"$f":"((N8*TASCHENRECHNER!O19)/1000)*TASCHENRECHNER!$U$11*TASCHENRECHNER!$Y$11","v":1067.4351977653939},{"$f":"((O8*TASCHENRECHNER!P19)/1000)*TASCHENRECHNER!$U$11*TASCHENRECHNER!$Y$11","v":1077.7647206027723},{"$f":"((P8*TASCHENRECHNER!Q19)/1000)*TASCHENRECHNER!$U$11*TASCHENRECHNER!$Y$11","v":1147.745691539991},{"$f":"((Q8*TASCHENRECHNER!R19)/1000)*TASCHENRECHNER!$U$11*TASCHENRECHNER!$Y$11","v":960.47499243493019},{"$f":"((R8*TASCHENRECHNER!S19)/1000)*TASCHENRECHNER!$U$11*TASCHENRECHNER!$Y$11","v":968.67987052780359},{"$f":"((S8*TASCHENRECHNER!T19)/1000)*TASCHENRECHNER!$U$11*TASCHENRECHNER!$Y$11","v":918.42532298785113},{"$f":"((T8*TASCHENRECHNER!U19)/1000)*TASCHENRECHNER!$U$11*TASCHENRECHNER!$Y$11","v":916.70064965833149},{"$f":"((U8*TASCHENRECHNER!V19)/1000)*TASCHENRECHNER!$U$11*TASCHENRECHNER!$Y$11","v":931.04971775806939},{"$f":"((V8*TASCHENRECHNER!W19)/1000)*TASCHENRECHNER!$U$11*TASCHENRECHNER!$Y$11","v":847.93640132323651},{"$f":"((W8*TASCHENRECHNER!X19)/1000)*TASCHENRECHNER!$U$11*TASCHENRECHNER!$Y$11","v":890.29620164565074},{"$f":"((X8*TASCHENRECHNER!Y19)/1000)*TASCHENRECHNER!$U$11*TASCHENRECHNER!$Y$11","v":835.80153628455651},{"$f":"((Y8*TASCHENRECHNER!Z19)/1000)*TASCHENRECHNER!$U$11*TASCHENRECHNER!$Y$11","v":846.29810062275897},{"$f":"((Z8*TASCHENRECHNER!AA19)/1000)*TASCHENRECHNER!$U$11*TASCHENRECHNER!$Y$11","v":917.10609266811423},{"$f":"((AA8*TASCHENRECHNER!AB19)/1000)*TASCHENRECHNER!$U$11*TASCHENRECHNER!$Y$11","v":745.28366822413545},{"$f":"((AB8*TASCHENRECHNER!AC19)/1000)*TASCHENRECHNER!$U$11*TASCHENRECHNER!$Y$11","v":781.57223317445539},{"$f":"((AC8*TASCHENRECHNER!AD19)/1000)*TASCHENRECHNER!$U$11*TASCHENRECHNER!$Y$11","v":725.2954806374637},{"$f":"((AD8*TASCHENRECHNER!AE19)/1000)*TASCHENRECHNER!$U$11*TASCHENRECHNER!$Y$11","v":734.28268393094424},{"$f":"((AE8*TASCHENRECHNER!AF19)/1000)*TASCHENRECHNER!$U$11*TASCHENRECHNER!$Y$11","v":821.34884001072851}]
[null,"JÄHRLICHE ENERGIEKOSTEN PRO LEUCHTE",null,null,null,"EURO",{"$f":"(G11/G8)*TASCHENRECHNER!$AD$11","v":33.169500000000006},{"$f":"(H11/H8)*TASCHENRECHNER!$AD$11","v":25.798499999999997},{"$f":"(I11/I8)*TASCHENRECHNER!$AD$11","v":16.380000000000003},{"$f":"(J11/J8)*TASCHENRECHNER!$AD$11","v":14.3325},{"$f":"(K11/K8)*TASCHENRECHNER!$AD$11","v":11.0565},{"$f":"(L11/L8)*TASCHENRECHNER!$AD$11","v":11.0565},{"$f":"(M11/M8)*TASCHENRECHNER!$AD$11","v":11.056499999999998},{"$f":"(N11/N8)*TASCHENRECHNER!$AD$11","v":10.237500000000001},{"$f":"(O11/O8)*TASCHENRECHNER!$AD$11","v":10.237499999999999},{"$f":"(P11/P8)*TASCHENRECHNER!$AD$11","v":11.0565},{"$f":"(Q11/Q8)*TASCHENRECHNER!$AD$11","v":10.237499999999999},{"$f":"(R11/R8)*TASCHENRECHNER!$AD$11","v":10.237500000000001},{"$f":"(S11/S8)*TASCHENRECHNER!$AD$11","v":8.599499999999999},{"$f":"(T11/T8)*TASCHENRECHNER!$AD$11","v":8.5994999999999973},{"$f":"(U11/U8)*TASCHENRECHNER!$AD$11","v":10.237500000000002},{"$f":"(V11/V8)*TASCHENRECHNER!$AD$11","v":10.237499999999999},{"$f":"(W11/W8)*TASCHENRECHNER!$AD$11","v":10.237499999999999},{"$f":"(X11/X8)*TASCHENRECHNER!$AD$11","v":8.599499999999999},{"$f":"(Y11/Y8)*TASCHENRECHNER!$AD$11","v":8.599499999999999},{"$f":"(Z11/Z8)*TASCHENRECHNER!$AD$11","v":10.237500000000001},{"$f":"(AA11/AA8)*TASCHENRECHNER!$AD$11","v":8.5995000000000008},{"$f":"(AB11/AB8)*TASCHENRECHNER!$AD$11","v":8.599499999999999},{"$f":"(AC11/AC8)*TASCHENRECHNER!$AD$11","v":7.7805},{"$f":"(AD11/AD8)*TASCHENRECHNER!$AD$11","v":7.7805},{"$f":"(AE11/AE8)*TASCHENRECHNER!$AD$11","v":8.5995000000000008}]
[null,"GESAMTJÄHRLICHE ENERGIEKOSTEN DER BELEUCHTUNG",null,null,null,null,{"$f":"G12*G8","v":946.21309370988467},{"$f":"H12*H8","v":668.24023078940468},{"$f":"I12*I8","v":488.31679218995225},387.76744953828074,313.36638093749218,276.15133073502648,278.7079186775423,266.85879944134848,269.44118015069307,286.93642288499774,240.11874810873258,242.1699676319509,229.60633074696278,229.17516241458284,232.76242943951735,211.98410033080913,222.57405041141268,208.95038407113913,211.57452515568971,229.27652316702856,186.32091705603386,195.39305829361382,181.32387015936592,183.57067098273606,205.33721000268216]
[null,"BELEUCHTUNG GESAMTINVESTITION + BETRIEBSKOSTEN IM GEGEBENEN ZEITRAUM",null,null,null,null,{"$f":"G10+(G13*$B$4)","v":6818.3426044786775},{"$f":"H10+(H13*$B$4)","v":5175.044438616429},4360.8657119381087,3625.2502634489397,3580.7348800490054,3205.4434617828938,3361.1572530678623,3373.6947611913574,3564.2560998200352,3953.4760300165217,3035.6404370180917,3179.8483906153842,3300.0353115102462,3453.7372548918775,3465.5739494328136,2742.0751634976705,2987.7644813468514,3076.0499764235137,3237.6967017749057,3458.4641846220643,2981.243005309505,3262.7312043477023,3348.519714171091,3507.9799593504463,3834.7043333683055]
[null,"*  Dieser Rechner soll dem Benutzer einen Näherungswert für die optischen und elektrischen Durchschnittsdaten, die Investitions- und Betriebskosten (Energie) der Leuchten und eine geschätzte Kapitalrendite alternativer Beleuchtungssysteme durch Energieeinsparungen im Vergleich zu LIBUS liefern. Die angegebenen Daten (außer denen von LIBUS) können nicht als spezifische Informationen über eine bestimmte Leuchtenmarke bewertet werden."]